BEGIN:VCALENDAR
VERSION:2.0
PRODID:-//Plone.org//NONSGML plone.app.event//EN
X-WR-TIMEZONE:Brazil/East
BEGIN:VEVENT
SUMMARY:3ª Sessão Ordinária - 2ª Sessão Legislativa da 20ª Legislatu
 ra
DTSTART;TZID=Brazil/East;VALUE=DATE-TIME:20260309T190000
DTEND;TZID=Brazil/East;VALUE=DATE-TIME:20260309T220000
DTSTAMP;VALUE=DATE-TIME:20260425T072737Z
UID:a6b49f6ced3b43b2b3c0be1bf05c33c1@www.januaria.mg.leg.br
CREATED;VALUE=DATE-TIME:20260305T202123Z
DESCRIPTION:3ª Sessão Ordinária da  Câmara Municipal de Januária - 09
 /03/2026
LAST-MODIFIED;VALUE=DATE-TIME:20260305T202133Z
LOCATION:Auditório Prof. Sílvio Azevedo
URL:https://www.januaria.mg.leg.br/institucional/eventos/3a-sessao-ordinar
 ia-2a-sessao-legislativa-da-20a-legislatura
END:VEVENT
BEGIN:VEVENT
SUMMARY:20ª Sessão Ordinária
DTSTART;VALUE=DATE:20251215
DTEND;VALUE=DATE:20251216
DTSTAMP;VALUE=DATE-TIME:20260425T072737Z
UID:855e1d5ad9bf4c3eac9b8daf3206c69e@www.januaria.mg.leg.br
CREATED;VALUE=DATE-TIME:20250902T195539Z
DESCRIPTION:20ª Sessão Ordinária da Câmara Municipal de Januária/MG.
LAST-MODIFIED;VALUE=DATE-TIME:20250902T200225Z
URL:https://www.januaria.mg.leg.br/institucional/eventos/20a-sessao-ordina
 ria
END:VEVENT
BEGIN:VEVENT
SUMMARY:19ª Sessão Ordinária 
DTSTART;VALUE=DATE:20251208
DTEND;VALUE=DATE:20251209
DTSTAMP;VALUE=DATE-TIME:20260425T072737Z
UID:833cad853bdb429482ac0a995b40649c@www.januaria.mg.leg.br
CREATED;VALUE=DATE-TIME:20250902T195512Z
DESCRIPTION:19ª Sessão Ordinária da Câmara Municipal de Januária/MG.
LAST-MODIFIED;VALUE=DATE-TIME:20250902T200225Z
URL:https://www.januaria.mg.leg.br/institucional/eventos/19a-sessao-ordina
 ria
END:VEVENT
BEGIN:VEVENT
SUMMARY:18ª Sessão Ordinária
DTSTART;VALUE=DATE:20251124
DTEND;VALUE=DATE:20251125
DTSTAMP;VALUE=DATE-TIME:20260425T072737Z
UID:64e6be4ced28481aa263faacd82c3267@www.januaria.mg.leg.br
CREATED;VALUE=DATE-TIME:20250902T195423Z
DESCRIPTION:18ª Sessão Ordinária da Câmara Municipal de Januária/MG.
LAST-MODIFIED;VALUE=DATE-TIME:20250902T200225Z
URL:https://www.januaria.mg.leg.br/institucional/eventos/18a-sessao-ordina
 ria
END:VEVENT
BEGIN:VEVENT
SUMMARY:17ª Sessão Ordinária
DTSTART;VALUE=DATE:20251110
DTEND;VALUE=DATE:20251111
DTSTAMP;VALUE=DATE-TIME:20260425T072737Z
UID:befe62516aff4bbd84bf918804953a6d@www.januaria.mg.leg.br
CREATED;VALUE=DATE-TIME:20250902T195358Z
DESCRIPTION:17ª Sessão Ordinária da Câmara Municipal de Januária/MG.
LAST-MODIFIED;VALUE=DATE-TIME:20250902T200225Z
URL:https://www.januaria.mg.leg.br/institucional/eventos/17a-sessao-ordina
 ria
END:VEVENT
BEGIN:VEVENT
SUMMARY:16ª Sessão Ordinária
DTSTART;TZID=Brazil/East;VALUE=DATE-TIME:20251027T190000
DTSTAMP;VALUE=DATE-TIME:20260425T072737Z
UID:fb534fa68b6c41159a54aae6ced5bfdf@www.januaria.mg.leg.br
CREATED;VALUE=DATE-TIME:20250902T194950Z
DESCRIPTION:16ª Sessão Ordinária da Câmara Municipal de Januária/MG.
LAST-MODIFIED;VALUE=DATE-TIME:20250902T195148Z
URL:https://www.januaria.mg.leg.br/institucional/eventos/15a-sessao-ordina
 ria-1
END:VEVENT
BEGIN:VEVENT
SUMMARY:15ª Sessão Ordinária
DTSTART;VALUE=DATE:20251020
DTEND;VALUE=DATE:20251021
DTSTAMP;VALUE=DATE-TIME:20260425T072737Z
UID:19cc4d4c8c9e4424be4cfcf34e81d9a7@www.januaria.mg.leg.br
CREATED;VALUE=DATE-TIME:20250902T194758Z
DESCRIPTION:15ª Sessão Ordinária da Câmara Municipal de Januária/MG.
LAST-MODIFIED;VALUE=DATE-TIME:20250902T195148Z
URL:https://www.januaria.mg.leg.br/institucional/eventos/15a-sessao-ordina
 ria
END:VEVENT
BEGIN:VEVENT
SUMMARY:14ª Sessão Ordinária 
DTSTART;VALUE=DATE:20250922
DTEND;VALUE=DATE:20250923
DTSTAMP;VALUE=DATE-TIME:20260425T072737Z
UID:8d1029ad756b40d892c9572f12a96ff4@www.januaria.mg.leg.br
CREATED;VALUE=DATE-TIME:20250902T192137Z
DESCRIPTION:14ª Sessão Ordinária da Câmara Municipal de Januária/MG.
LAST-MODIFIED;VALUE=DATE-TIME:20250902T192628Z
URL:https://www.januaria.mg.leg.br/institucional/eventos/14a-sessao-ordina
 ria
END:VEVENT
BEGIN:VEVENT
SUMMARY:Sessão Extraordinária
DTSTART;VALUE=DATE:20250908
DTEND;VALUE=DATE:20250909
DTSTAMP;VALUE=DATE-TIME:20260425T072737Z
UID:fc0f5fdd627048b883de2672027068aa@www.januaria.mg.leg.br
CREATED;VALUE=DATE-TIME:20250902T192006Z
DESCRIPTION:As matérias a serem apreciadas são as seguintes:\n\n    • 
 Projeto de Lei Complementar nº 007/2025 - Dispõe sobre o reajuste dos va
 lores de vencimento dos cargos de provimento em comissão da área adminis
 trativa e pedagógica da Secretaria Municipal de Educação e dá outras p
 rovidências (Proposição do Chefe do Executivo Municipal). 2º TURNO\n\n
     • Projeto de Lei Complementar nº 008/2025 – Dispõe sobre o incre
 mento no número de vagas para o cargo de Motorista CNH “D” de provime
 nto efetivo no Quadro de Pessoal da Secretaria Municipal de Educação do 
 município de Januária – MG e dá outras providências (Proposição do
  Chefe do Executivo Municipal) 2º TURNO
LAST-MODIFIED;VALUE=DATE-TIME:20250902T192628Z
LOCATION:Plenário Prof. Silvio de Azevedo
URL:https://www.januaria.mg.leg.br/institucional/eventos/sessao-extraordin
 aria
END:VEVENT
BEGIN:VEVENT
SUMMARY:13ª Sessão Ordinária 
DTSTART;VALUE=DATE:20250901
DTEND;VALUE=DATE:20250902
DTSTAMP;VALUE=DATE-TIME:20260425T072737Z
UID:0350b59237324cb4812927ec79bf4f6c@www.januaria.mg.leg.br
CREATED;VALUE=DATE-TIME:20250902T192226Z
DESCRIPTION:14ª Sessão Ordinária da Cãmara Municipal de Januária/MG.
LAST-MODIFIED;VALUE=DATE-TIME:20250902T192628Z
URL:https://www.januaria.mg.leg.br/institucional/eventos/13a-sessao-ordina
 ria
END:VEVENT
BEGIN:VEVENT
SUMMARY:1º Ano do Site
DTSTART;TZID=Brazil/East;VALUE=DATE-TIME:20230808T000000
DTEND;TZID=Brazil/East;VALUE=DATE-TIME:20230808T235959
DTSTAMP;VALUE=DATE-TIME:20260425T072737Z
UID:b577f86e4dcc48548a72c7929f9e8da6
CREATED;VALUE=DATE-TIME:20220808T204307Z
DESCRIPTION:Aniversário de primeiro ano do site desta Casa Legislativa. (
 este evento é um conteúdo de exemplo e pode ser removido)
LAST-MODIFIED;VALUE=DATE-TIME:20220808T204322Z
URL:https://www.januaria.mg.leg.br/institucional/eventos/1o-ano-do-site
END:VEVENT
BEGIN:VTIMEZONE
TZID:Brazil/East
X-LIC-LOCATION:Brazil/East
BEGIN:STANDARD
DTSTART;VALUE=DATE-TIME:20230225T230000
TZNAME:BRT
TZOFFSETFROM:-0200
TZOFFSETTO:-0300
END:STANDARD
BEGIN:DAYLIGHT
DTSTART;VALUE=DATE-TIME:20251019T010000
TZNAME:BRST
TZOFFSETFROM:-0300
TZOFFSETTO:-0200
END:DAYLIGHT
BEGIN:STANDARD
DTSTART;VALUE=DATE-TIME:20260221T230000
TZNAME:BRT
TZOFFSETFROM:-0200
TZOFFSETTO:-0300
END:STANDARD
END:VTIMEZONE
END:VCALENDAR
